0.1
0
0
-0.1
609904.501965605
4736855.89622744
