0.1
0
0
-0.1
609932.230917074
4735120.87834237
