0.1
0
0
-0.1
612470.465973639
4736319.04506327
