0.1
0
0
-0.1
611655.773631103
4733991.79188002
