0.1
0
0
-0.1
610821.864792847
4732821.21945033
