0.1
0
0
-0.1
611683.92406241
4732256.78496379
