0.1
0
0
-0.1
618485.968947139
4733527.58703715
