0.1
0
0
-0.1
617653.142998388
4732356.1650858
