0.1
0
0
-0.1
611693.306373259
4731678.45032071
