0.1
0
0
-0.1
610849.799985662
4731086.21677084
