0.1
0
0
-0.1
613408.466594291
4731127.91985844
