0.1
0
0
-0.1
617682.795611712
4730621.18328479
