0.1
0
0
-0.1
610747.348060272
4737447.92810277
