0.1
0
0
-0.1
611599.445111119
4737461.82786232
