0.1
0
0
-0.1
611627.614201702
4735726.80527676
