0.1
0
0
-0.1
597244.45076328
4727988.1791707
