0.1
0
0
-0.1
597268.921221984
4726253.17831851
