0.1
0
0
-0.1
598975.832593472
4726277.6122759
