0.1
0
0
-0.1
568291.864272022
4721856.19978999
