0.1
0
0
-0.1
568297.587333178
4721277.87039206
