0.1
0
0
-0.1
608748.997254802
4755928.10047646
