0.1
0
0
-0.1
608758.207927455
4755349.73251873
