0.1
0
0
-0.1
611326.698556898
4754234.07004715
