0.1
0
0
-0.1
610486.021195163
4753641.81101943
