0.1
0
0
-0.1
605920.230593766
4773817.60839816
