0.1
0
0
-0.1
613541.739387287
4723031.30767762
