0.1
0
0
-0.1
614386.045572903
4723623.74979094
