0.1
0
0
-0.1
611017.236756328
4720676.28995695
