0.1
0
0
-0.1
611026.528117344
4720097.96528588
