0.1
0
0
-0.1
612744.450289886
4719547.43827268
