0.1
0
0
-0.1
612214.683561267
4751934.51898469
