0.1
0
0
-0.1
613064.994990372
4751948.41497539
