0.1
0
0
-0.1
612224.172582731
4751356.15822394
