0.1
0
0
-0.1
613924.935879722
4751384.16315051
