0.1
0
0
-0.1
614785.015707802
4750820.11876865
