0.1
0
0
-0.1
613103.219398683
4749634.98204778
