0.1
0
0
-0.1
564619.145367102
4749005.52065381
