0.1
0
0
-0.1
562939.266875872
4746676.13807148
