0.1
0
0
-0.1
566325.976177173
4748443.32216609
