0.1
0
0
-0.1
569163.195124621
4720129.63212328
