0.1
0
0
-0.1
609537.314331033
4706191.13151065
