0.1
0
0
-0.1
610402.461682359
4705626.27928957
