0.1
0
0
-0.1
610411.658756351
4705047.96743411
