0.1
0
0
-0.1
611258.483514253
4705639.94883353
