0.1
0
0
-0.1
612142.519271649
4703918.8970237
