0.1
0
0
-0.1
612151.849939376
4703340.59549938
