0.1
0
0
-0.1
613617.770608996
4718404.68016319
