0.1
0
0
-0.1
613646.264506789
4716669.71613708
