0.1
0
0
-0.1
642681.858905958
4759444.75561559
