0.1
0
0
-0.1
643531.324211535
4759462.42329701
